BEGIN:VCALENDAR
VERSION:2.0
PRODID:-//wp-events-plugin.com//7.2.3.1//EN
TZID:America/Los_Angeles
X-WR-TIMEZONE:America/Los_Angeles
BEGIN:VEVENT
UID:203@temple-sinai.net
DTSTART;TZID=America/Los_Angeles:20240306T190000
DTEND;TZID=America/Los_Angeles:20240306T213000
DTSTAMP:20240227T005513Z
URL:https://www.temple-sinai.net/events/rosh-chodesh-adar-1/
SUMMARY:Rosh Chodesh Adar 1
DESCRIPTION:Please join your TSG Sisters and Music Educator Sue Epstein as 
 we celebrate Rosh Chodesh Adar 1. Our theme: Purim! 
ATTACH;FMTTYPE=image/jpeg:https://www.temple-sinai.net/wp-content/uploads/
 2024/02/Rosh-Chodesh-Adar-1-Purim.png
END:VEVENT
BEGIN:VTIMEZONE
TZID:America/Los_Angeles
X-LIC-LOCATION:America/Los_Angeles
BEGIN:STANDARD
DTSTART:20231105T010000
TZOFFSETFROM:-0700
TZOFFSETTO:-0800
TZNAME:PST
END:STANDARD
END:VTIMEZONE
END:VCALENDAR